Workbook

Sheet Calcul
A1: Calcul de l'IRG et du salaire net — Algérie 2026
A2: Cellules jaunes : à saisir. Le reste se calcule seul (barème et paramètres dans l'onglet « Barème »).
A4: Un salaire
A5: Salaire brut mensuel soumis à cotisation (DA) | B5: 100000
A6: Travailleur handicapé ? (OUI / NON) | B6: NON
A8: Cotisation CNAS salariale (DA) | B8: =ROUND(B5*'Barème'!$B$13,2)
A9: Salaire imposable (DA) | B9: =B5-B8
A10: IRG selon le barème (DA) | B10: =IF(B9<='Barème'!$B$17,0,MAX(0,MIN(B9,'Barème'!$B$4)-'Barème'!$A$4)*'Barème'!$C$4+MAX(0,MIN(B9,'Barème'!$B$5)-'Barème'!$A$5)*'Barème'!$C$5+MAX(0,MIN(B9,'Barème'!$B$6)-'Barème'!$A$6)*'Barème'!$C$6+MAX(0,MIN(B9,'Barème'!$B$7)-'Barème'!$A$7)*'Barème'!$C$7+MAX(0,MIN(B9,'Barème'!$B$8)-'Barème'!$A$8)*'Barème'!$C$8+MAX(0,B9-'Barème'!$A$9)*'Barème'!$C$9)
A11: Abattement de 40 %, borné (DA) | B11: =IF(B9<='Barème'!$B$17,0,MIN(MAX((B10)*'Barème'!$B$14,'Barème'!$B$15),'Barème'!$B$16))
A12: Lissage appliqué | B12: =IF(B9<='Barème'!$B$17,"Exonéré (30 000 DA ou moins)",IF(AND(B6="OUI",B9<'Barème'!$B$19),"Travailleurs handicapés (jusqu'à 42 500 DA)",IF(B9<'Barème'!$B$18,"Salariés (30 000 à 35 000 DA)","Aucun")))
A13: IRG retenu (DA) | B13: =IF(B9<='Barème'!$B$17,0,ROUND(MAX(0,IF(AND(B6="OUI",B9<'Barème'!$B$19),((MAX(0,MIN(B9,'Barème'!$B$4)-'Barème'!$A$4)*'Barème'!$C$4+MAX(0,MIN(B9,'Barème'!$B$5)-'Barème'!$A$5)*'Barème'!$C$5+MAX(0,MIN(B9,'Barème'!$B$6)-'Barème'!$A$6)*'Barème'!$C$6+MAX(0,MIN(B9,'Barème'!$B$7)-'Barème'!$A$7)*'Barème'!$C$7+MAX(0,MIN(B9,'Barème'!$B$8)-'Barème'!$A$8)*'Barème'!$C$8+MAX(0,B9-'Barème'!$A$9)*'Barème'!$C$9)-MIN(MAX(((MAX(0,MIN(B9,'Barème'!$B$4)-'Barème'!$A$4)*'Barème'!$C$4+MAX(0,MIN(B9,'Barème'!$B$5)-'Barème'!$A$5)*'Barème'!$C$5+MAX(0,MIN(B9,'Barème'!$B$6)-'Barème'!$A$6)*'Barème'!$C$6+MAX(0,MIN(B9,'Barème'!$B$7)-'Barème'!$A$7)*'Barème'!$C$7+MAX(0,MIN(B9,'Barème'!$B$8)-'Barème'!$A$8)*'Barème'!$C$8+MAX(0,B9-'Barème'!$A$9)*'Barème'!$C$9))*'Barème'!$B$14,'Barème'!$B$15),'Barème'!$B$16))*'Barème'!$B$21-'Barème'!$C$21,IF(B9<'Barème'!$B$18,((MAX(0,MIN(B9,'Barème'!$B$4)-'Barème'!$A$4)*'Barème'!$C$4+MAX(0,MIN(B9,'Barème'!$B$5)-'Barème'!$A$5)*'Barème'!$C$5+MAX(0,MIN(B9,'Barème'!$B$6)-'Barème'!$A$6)*'Barème'!$C$6+MAX(0,MIN(B9,'Barème'!$B$7)-'Barème'!$A$7)*'Barème'!$C$7+MAX(0,MIN(B9,'Barème'!$B$8)-'Barème'!$A$8)*'Barème'!$C$8+MAX(0,B9-'Barème'!$A$9)*'Barème'!$C$9)-MIN(MAX(((MAX(0,MIN(B9,'Barème'!$B$4)-'Barème'!$A$4)*'Barème'!$C$4+MAX(0,MIN(B9,'Barème'!$B$5)-'Barème'!$A$5)*'Barème'!$C$5+MAX(0,MIN(B9,'Barème'!$B$6)-'Barème'!$A$6)*'Barème'!$C$6+MAX(0,MIN(B9,'Barème'!$B$7)-'Barème'!$A$7)*'Barème'!$C$7+MAX(0,MIN(B9,'Barème'!$B$8)-'Barème'!$A$8)*'Barème'!$C$8+MAX(0,B9-'Barème'!$A$9)*'Barème'!$C$9))*'Barème'!$B$14,'Barème'!$B$15),'Barème'!$B$16))*'Barème'!$B$20-'Barème'!$C$20,((MAX(0,MIN(B9,'Barème'!$B$4)-'Barème'!$A$4)*'Barème'!$C$4+MAX(0,MIN(B9,'Barème'!$B$5)-'Barème'!$A$5)*'Barème'!$C$5+MAX(0,MIN(B9,'Barème'!$B$6)-'Barème'!$A$6)*'Barème'!$C$6+MAX(0,MIN(B9,'Barème'!$B$7)-'Barème'!$A$7)*'Barème'!$C$7+MAX(0,MIN(B9,'Barème'!$B$8)-'Barème'!$A$8)*'Barème'!$C$8+MAX(0,B9-'Barème'!$A$9)*'Barème'!$C$9)-MIN(MAX(((MAX(0,MIN(B9,'Barème'!$B$4)-'Barème'!$A$4)*'Barème'!$C$4+MAX(0,MIN(B9,'Barème'!$B$5)-'Barème'!$A$5)*'Barème'!$C$5+MAX(0,MIN(B9,'Barème'!$B$6)-'Barème'!$A$6)*'Barème'!$C$6+MAX(0,MIN(B9,'Barème'!$B$7)-'Barème'!$A$7)*'Barème'!$C$7+MAX(0,MIN(B9,'Barème'!$B$8)-'Barème'!$A$8)*'Barème'!$C$8+MAX(0,B9-'Barème'!$A$9)*'Barème'!$C$9))*'Barème'!$B$14,'Barème'!$B$15),'Barème'!$B$16))))),2))
A14: Salaire net (DA) | B14: =ROUND(B9-B13,2)
A17: Une pension de retraite (régime général)
A18: Montant imposable mensuel de la pension (DA) | B18: 34000
A19: IRG retenu (DA) | B19: =IF(B18<='Barème'!$B$17,0,ROUND(MAX(0,IF(AND(TRUE,B18<'Barème'!$B$19),((MAX(0,MIN(B18,'Barème'!$B$4)-'Barème'!$A$4)*'Barème'!$C$4+MAX(0,MIN(B18,'Barème'!$B$5)-'Barème'!$A$5)*'Barème'!$C$5+MAX(0,MIN(B18,'Barème'!$B$6)-'Barème'!$A$6)*'Barème'!$C$6+MAX(0,MIN(B18,'Barème'!$B$7)-'Barème'!$A$7)*'Barème'!$C$7+MAX(0,MIN(B18,'Barème'!$B$8)-'Barème'!$A$8)*'Barème'!$C$8+MAX(0,B18-'Barème'!$A$9)*'Barème'!$C$9)-MIN(MAX(((MAX(0,MIN(B18,'Barème'!$B$4)-'Barème'!$A$4)*'Barème'!$C$4+MAX(0,MIN(B18,'Barème'!$B$5)-'Barème'!$A$5)*'Barème'!$C$5+MAX(0,MIN(B18,'Barème'!$B$6)-'Barème'!$A$6)*'Barème'!$C$6+MAX(0,MIN(B18,'Barème'!$B$7)-'Barème'!$A$7)*'Barème'!$C$7+MAX(0,MIN(B18,'Barème'!$B$8)-'Barème'!$A$8)*'Barème'!$C$8+MAX(0,B18-'Barème'!$A$9)*'Barème'!$C$9))*'Barème'!$B$14,'Barème'!$B$15),'Barème'!$B$16))*'Barème'!$B$21-'Barème'!$C$21,IF(B18<'Barème'!$B$18,((MAX(0,MIN(B18,'Barème'!$B$4)-'Barème'!$A$4)*'Barème'!$C$4+MAX(0,MIN(B18,'Barème'!$B$5)-'Barème'!$A$5)*'Barème'!$C$5+MAX(0,MIN(B18,'Barème'!$B$6)-'Barème'!$A$6)*'Barème'!$C$6+MAX(0,MIN(B18,'Barème'!$B$7)-'Barème'!$A$7)*'Barème'!$C$7+MAX(0,MIN(B18,'Barème'!$B$8)-'Barème'!$A$8)*'Barème'!$C$8+MAX(0,B18-'Barème'!$A$9)*'Barème'!$C$9)-MIN(MAX(((MAX(0,MIN(B18,'Barème'!$B$4)-'Barème'!$A$4)*'Barème'!$C$4+MAX(0,MIN(B18,'Barème'!$B$5)-'Barème'!$A$5)*'Barème'!$C$5+MAX(0,MIN(B18,'Barème'!$B$6)-'Barème'!$A$6)*'Barème'!$C$6+MAX(0,MIN(B18,'Barème'!$B$7)-'Barème'!$A$7)*'Barème'!$C$7+MAX(0,MIN(B18,'Barème'!$B$8)-'Barème'!$A$8)*'Barème'!$C$8+MAX(0,B18-'Barème'!$A$9)*'Barème'!$C$9))*'Barème'!$B$14,'Barème'!$B$15),'Barème'!$B$16))*'Barème'!$B$20-'Barème'!$C$20,((MAX(0,MIN(B18,'Barème'!$B$4)-'Barème'!$A$4)*'Barème'!$C$4+MAX(0,MIN(B18,'Barème'!$B$5)-'Barème'!$A$5)*'Barème'!$C$5+MAX(0,MIN(B18,'Barème'!$B$6)-'Barème'!$A$6)*'Barème'!$C$6+MAX(0,MIN(B18,'Barème'!$B$7)-'Barème'!$A$7)*'Barème'!$C$7+MAX(0,MIN(B18,'Barème'!$B$8)-'Barème'!$A$8)*'Barème'!$C$8+MAX(0,B18-'Barème'!$A$9)*'Barème'!$C$9)-MIN(MAX(((MAX(0,MIN(B18,'Barème'!$B$4)-'Barème'!$A$4)*'Barème'!$C$4+MAX(0,MIN(B18,'Barème'!$B$5)-'Barème'!$A$5)*'Barème'!$C$5+MAX(0,MIN(B18,'Barème'!$B$6)-'Barème'!$A$6)*'Barème'!$C$6+MAX(0,MIN(B18,'Barème'!$B$7)-'Barème'!$A$7)*'Barème'!$C$7+MAX(0,MIN(B18,'Barème'!$B$8)-'Barème'!$A$8)*'Barème'!$C$8+MAX(0,B18-'Barème'!$A$9)*'Barème'!$C$9))*'Barème'!$B$14,'Barème'!$B$15),'Barème'!$B$16))))),2))
A20: Saisissez le montant imposable de votre titre de pension (la CNR retient 2 % de sécurité sociale).
A23: Les logiciels de paie arrondissent parfois la base ou l'impôt : un bulletin peut différer de quelques dinars.
A24: Guide : https://winalco.dz/actualites/bareme-irg-2026-calcul-irg-salaire-algerie — Winalco Paie : https://winalco.dz/produit/winalco-paie

Sheet Barème
A1: Barème IRG 2026 sur les salaires et pensions — Algérie (mensuel)
A2: Article 104 du Code des impôts directs et taxes assimilées (loi de finances 2022), inchangé par la loi de finances 2026.
A3: Borne basse (DA) | B3: Borne haute (DA) | C3: Taux | D3: Impôt de la tranche (DA) | E3: Cumul en fin de tranche (DA)
A4: 0 | B4: 20000 | C4: 0 | D4: =(B4-A4)*C4 | E4: =D4
A5: 20000 | B5: 40000 | C5: 0.23 | D5: =(B5-A5)*C5 | E5: =E4+D5
A6: 40000 | B6: 80000 | C6: 0.27 | D6: =(B6-A6)*C6 | E6: =E5+D6
A7: 80000 | B7: 160000 | C7: 0.3 | D7: =(B7-A7)*C7 | E7: =E6+D7
A8: 160000 | B8: 320000 | C8: 0.33 | D8: =(B8-A8)*C8 | E8: =E7+D8
A9: 320000 | B9: au-delà | C9: 0.35 | D9: — | E9: —
A10: La borne basse est exclue de la tranche : « de 20 001 à 40 000 DA » s'écrit 20 000 – 40 000.
A12: Paramètres
A13: Cotisation CNAS salariale | B13: 0.09 | C13: Décret exécutif 15-236 du 3 septembre 2015 (part salariale 9 %).
A14: Abattement sur l'impôt | B14: 0.4 | C14: Art. 104 CIDTA.
A15: Abattement minimum (DA/mois) | B15: 1000 | C15: Soit 12 000 DA par an.
A16: Abattement maximum (DA/mois) | B16: 1500 | C16: Soit 18 000 DA par an.
A17: Seuil d'exonération totale (DA) | B17: 30000 | C17: Revenus imposables qui n'excèdent pas 30 000 DA.
A18: Fin du lissage des salariés (DA) | B18: 35000 | C18: Deuxième abattement, revenus de 30 000 à 35 000 DA.
A19: Fin du lissage retraités / handicapés (DA) | B19: 42500 | C19: Retraités du régime général et travailleurs handicapés, 30 000 à 42 500 DA.
A20: Lissage des salariés : IRG × a − b | B20: =137/51 | C20: =27925/8 | D20: a = 137/51 ; b = 27 925/8
A21: Lissage retraités / handicapés : IRG × a − b | B21: =93/61 | C21: =81213/41 | D21: a = 93/61 ; b = 81 213/41
A23: Sources : art. 104 CIDTA, édition 2026 de la DGI ; loi de finances 2022 (art. 31) ; loi de finances 2026 (art. 11, salaires « sans changement »). À revérifier à chaque loi de finances.
A24: Guide complet : https://winalco.dz/actualites/bareme-irg-2026-calcul-irg-salaire-algerie — calcul en ligne : https://winalco.dz/simulateur-salaire-net

Sheet Grille
A1: Du brut au net, salariés — Algérie 2026
A2: Salaire entièrement soumis à cotisation ; sans le lissage des travailleurs handicapés.
A3: Salaire brut (DA) | B3: CNAS 9 % (DA) | C3: Salaire imposable (DA) | D3: IRG (DA) | E3: Salaire net (DA)
A4: 20000 | B4: =ROUND(A4*'Barème'!$B$13,2) | C4: =A4-B4 | D4: =IF(C4<='Barème'!$B$17,0,ROUND(MAX(0,IF(AND(FALSE,C4<'Barème'!$B$19),((MAX(0,MIN(C4,'Barème'!$B$4)-'Barème'!$A$4)*'Barème'!$C$4+MAX(0,MIN(C4,'Barème'!$B$5)-'Barème'!$A$5)*'Barème'!$C$5+MAX(0,MIN(C4,'Barème'!$B$6)-'Barème'!$A$6)*'Barème'!$C$6+MAX(0,MIN(C4,'Barème'!$B$7)-'Barème'!$A$7)*'Barème'!$C$7+MAX(0,MIN(C4,'Barème'!$B$8)-'Barème'!$A$8)*'Barème'!$C$8+MAX(0,C4-'Barème'!$A$9)*'Barème'!$C$9)-MIN(MAX(((MAX(0,MIN(C4,'Barème'!$B$4)-'Barème'!$A$4)*'Barème'!$C$4+MAX(0,MIN(C4,'Barème'!$B$5)-'Barème'!$A$5)*'Barème'!$C$5+MAX(0,MIN(C4,'Barème'!$B$6)-'Barème'!$A$6)*'Barème'!$C$6+MAX(0,MIN(C4,'Barème'!$B$7)-'Barème'!$A$7)*'Barème'!$C$7+MAX(0,MIN(C4,'Barème'!$B$8)-'Barème'!$A$8)*'Barème'!$C$8+MAX(0,C4-'Barème'!$A$9)*'Barème'!$C$9))*'Barème'!$B$14,'Barème'!$B$15),'Barème'!$B$16))*'Barème'!$B$21-'Barème'!$C$21,IF(C4<'Barème'!$B$18,((MAX(0,MIN(C4,'Barème'!$B$4)-'Barème'!$A$4)*'Barème'!$C$4+MAX(0,MIN(C4,'Barème'!$B$5)-'Barème'!$A$5)*'Barème'!$C$5+MAX(0,MIN(C4,'Barème'!$B$6)-'Barème'!$A$6)*'Barème'!$C$6+MAX(0,MIN(C4,'Barème'!$B$7)-'Barème'!$A$7)*'Barème'!$C$7+MAX(0,MIN(C4,'Barème'!$B$8)-'Barème'!$A$8)*'Barème'!$C$8+MAX(0,C4-'Barème'!$A$9)*'Barème'!$C$9)-MIN(MAX(((MAX(0,MIN(C4,'Barème'!$B$4)-'Barème'!$A$4)*'Barème'!$C$4+MAX(0,MIN(C4,'Barème'!$B$5)-'Barème'!$A$5)*'Barème'!$C$5+MAX(0,MIN(C4,'Barème'!$B$6)-'Barème'!$A$6)*'Barème'!$C$6+MAX(0,MIN(C4,'Barème'!$B$7)-'Barème'!$A$7)*'Barème'!$C$7+MAX(0,MIN(C4,'Barème'!$B$8)-'Barème'!$A$8)*'Barème'!$C$8+MAX(0,C4-'Barème'!$A$9)*'Barème'!$C$9))*'Barème'!$B$14,'Barème'!$B$15),'Barème'!$B$16))*'Barème'!$B$20-'Barème'!$C$20,((MAX(0,MIN(C4,'Barème'!$B$4)-'Barème'!$A$4)*'Barème'!$C$4+MAX(0,MIN(C4,'Barème'!$B$5)-'Barème'!$A$5)*'Barème'!$C$5+MAX(0,MIN(C4,'Barème'!$B$6)-'Barème'!$A$6)*'Barème'!$C$6+MAX(0,MIN(C4,'Barème'!$B$7)-'Barème'!$A$7)*'Barème'!$C$7+MAX(0,MIN(C4,'Barème'!$B$8)-'Barème'!$A$8)*'Barème'!$C$8+MAX(0,C4-'Barème'!$A$9)*'Barème'!$C$9)-MIN(MAX(((MAX(0,MIN(C4,'Barème'!$B$4)-'Barème'!$A$4)*'Barème'!$C$4+MAX(0,MIN(C4,'Barème'!$B$5)-'Barème'!$A$5)*'Barème'!$C$5+MAX(0,MIN(C4,'Barème'!$B$6)-'Barème'!$A$6)*'Barème'!$C$6+MAX(0,MIN(C4,'Barème'!$B$7)-'Barème'!$A$7)*'Barème'!$C$7+MAX(0,MIN(C4,'Barème'!$B$8)-'Barème'!$A$8)*'Barème'!$C$8+MAX(0,C4-'Barème'!$A$9)*'Barème'!$C$9))*'Barème'!$B$14,'Barème'!$B$15),'Barème'!$B$16))))),2)) | E4: =ROUND(C4-D4,2)
A5: 25000 | B5: =ROUND(A5*'Barème'!$B$13,2) | C5: =A5-B5 | D5: =IF(C5<='Barème'!$B$17,0,ROUND(MAX(0,IF(AND(FALSE,C5<'Barème'!$B$19),((MAX(0,MIN(C5,'Barème'!$B$4)-'Barème'!$A$4)*'Barème'!$C$4+MAX(0,MIN(C5,'Barème'!$B$5)-'Barème'!$A$5)*'Barème'!$C$5+MAX(0,MIN(C5,'Barème'!$B$6)-'Barème'!$A$6)*'Barème'!$C$6+MAX(0,MIN(C5,'Barème'!$B$7)-'Barème'!$A$7)*'Barème'!$C$7+MAX(0,MIN(C5,'Barème'!$B$8)-'Barème'!$A$8)*'Barème'!$C$8+MAX(0,C5-'Barème'!$A$9)*'Barème'!$C$9)-MIN(MAX(((MAX(0,MIN(C5,'Barème'!$B$4)-'Barème'!$A$4)*'Barème'!$C$4+MAX(0,MIN(C5,'Barème'!$B$5)-'Barème'!$A$5)*'Barème'!$C$5+MAX(0,MIN(C5,'Barème'!$B$6)-'Barème'!$A$6)*'Barème'!$C$6+MAX(0,MIN(C5,'Barème'!$B$7)-'Barème'!$A$7)*'Barème'!$C$7+MAX(0,MIN(C5,'Barème'!$B$8)-'Barème'!$A$8)*'Barème'!$C$8+MAX(0,C5-'Barème'!$A$9)*'Barème'!$C$9))*'Barème'!$B$14,'Barème'!$B$15),'Barème'!$B$16))*'Barème'!$B$21-'Barème'!$C$21,IF(C5<'Barème'!$B$18,((MAX(0,MIN(C5,'Barème'!$B$4)-'Barème'!$A$4)*'Barème'!$C$4+MAX(0,MIN(C5,'Barème'!$B$5)-'Barème'!$A$5)*'Barème'!$C$5+MAX(0,MIN(C5,'Barème'!$B$6)-'Barème'!$A$6)*'Barème'!$C$6+MAX(0,MIN(C5,'Barème'!$B$7)-'Barème'!$A$7)*'Barème'!$C$7+MAX(0,MIN(C5,'Barème'!$B$8)-'Barème'!$A$8)*'Barème'!$C$8+MAX(0,C5-'Barème'!$A$9)*'Barème'!$C$9)-MIN(MAX(((MAX(0,MIN(C5,'Barème'!$B$4)-'Barème'!$A$4)*'Barème'!$C$4+MAX(0,MIN(C5,'Barème'!$B$5)-'Barème'!$A$5)*'Barème'!$C$5+MAX(0,MIN(C5,'Barème'!$B$6)-'Barème'!$A$6)*'Barème'!$C$6+MAX(0,MIN(C5,'Barème'!$B$7)-'Barème'!$A$7)*'Barème'!$C$7+MAX(0,MIN(C5,'Barème'!$B$8)-'Barème'!$A$8)*'Barème'!$C$8+MAX(0,C5-'Barème'!$A$9)*'Barème'!$C$9))*'Barème'!$B$14,'Barème'!$B$15),'Barème'!$B$16))*'Barème'!$B$20-'Barème'!$C$20,((MAX(0,MIN(C5,'Barème'!$B$4)-'Barème'!$A$4)*'Barème'!$C$4+MAX(0,MIN(C5,'Barème'!$B$5)-'Barème'!$A$5)*'Barème'!$C$5+MAX(0,MIN(C5,'Barème'!$B$6)-'Barème'!$A$6)*'Barème'!$C$6+MAX(0,MIN(C5,'Barème'!$B$7)-'Barème'!$A$7)*'Barème'!$C$7+MAX(0,MIN(C5,'Barème'!$B$8)-'Barème'!$A$8)*'Barème'!$C$8+MAX(0,C5-'Barème'!$A$9)*'Barème'!$C$9)-MIN(MAX(((MAX(0,MIN(C5,'Barème'!$B$4)-'Barème'!$A$4)*'Barème'!$C$4+MAX(0,MIN(C5,'Barème'!$B$5)-'Barème'!$A$5)*'Barème'!$C$5+MAX(0,MIN(C5,'Barème'!$B$6)-'Barème'!$A$6)*'Barème'!$C$6+MAX(0,MIN(C5,'Barème'!$B$7)-'Barème'!$A$7)*'Barème'!$C$7+MAX(0,MIN(C5,'Barème'!$B$8)-'Barème'!$A$8)*'Barème'!$C$8+MAX(0,C5-'Barème'!$A$9)*'Barème'!$C$9))*'Barème'!$B$14,'Barème'!$B$15),'Barème'!$B$16))))),2)) | E5: =ROUND(C5-D5,2)
A6: 30000 | B6: =ROUND(A6*'Barème'!$B$13,2) | C6: =A6-B6 | D6: =IF(C6<='Barème'!$B$17,0,ROUND(MAX(0,IF(AND(FALSE,C6<'Barème'!$B$19),((MAX(0,MIN(C6,'Barème'!$B$4)-'Barème'!$A$4)*'Barème'!$C$4+MAX(0,MIN(C6,'Barème'!$B$5)-'Barème'!$A$5)*'Barème'!$C$5+MAX(0,MIN(C6,'Barème'!$B$6)-'Barème'!$A$6)*'Barème'!$C$6+MAX(0,MIN(C6,'Barème'!$B$7)-'Barème'!$A$7)*'Barème'!$C$7+MAX(0,MIN(C6,'Barème'!$B$8)-'Barème'!$A$8)*'Barème'!$C$8+MAX(0,C6-'Barème'!$A$9)*'Barème'!$C$9)-MIN(MAX(((MAX(0,MIN(C6,'Barème'!$B$4)-'Barème'!$A$4)*'Barème'!$C$4+MAX(0,MIN(C6,'Barème'!$B$5)-'Barème'!$A$5)*'Barème'!$C$5+MAX(0,MIN(C6,'Barème'!$B$6)-'Barème'!$A$6)*'Barème'!$C$6+MAX(0,MIN(C6,'Barème'!$B$7)-'Barème'!$A$7)*'Barème'!$C$7+MAX(0,MIN(C6,'Barème'!$B$8)-'Barème'!$A$8)*'Barème'!$C$8+MAX(0,C6-'Barème'!$A$9)*'Barème'!$C$9))*'Barème'!$B$14,'Barème'!$B$15),'Barème'!$B$16))*'Barème'!$B$21-'Barème'!$C$21,IF(C6<'Barème'!$B$18,((MAX(0,MIN(C6,'Barème'!$B$4)-'Barème'!$A$4)*'Barème'!$C$4+MAX(0,MIN(C6,'Barème'!$B$5)-'Barème'!$A$5)*'Barème'!$C$5+MAX(0,MIN(C6,'Barème'!$B$6)-'Barème'!$A$6)*'Barème'!$C$6+MAX(0,MIN(C6,'Barème'!$B$7)-'Barème'!$A$7)*'Barème'!$C$7+MAX(0,MIN(C6,'Barème'!$B$8)-'Barème'!$A$8)*'Barème'!$C$8+MAX(0,C6-'Barème'!$A$9)*'Barème'!$C$9)-MIN(MAX(((MAX(0,MIN(C6,'Barème'!$B$4)-'Barème'!$A$4)*'Barème'!$C$4+MAX(0,MIN(C6,'Barème'!$B$5)-'Barème'!$A$5)*'Barème'!$C$5+MAX(0,MIN(C6,'Barème'!$B$6)-'Barème'!$A$6)*'Barème'!$C$6+MAX(0,MIN(C6,'Barème'!$B$7)-'Barème'!$A$7)*'Barème'!$C$7+MAX(0,MIN(C6,'Barème'!$B$8)-'Barème'!$A$8)*'Barème'!$C$8+MAX(0,C6-'Barème'!$A$9)*'Barème'!$C$9))*'Barème'!$B$14,'Barème'!$B$15),'Barème'!$B$16))*'Barème'!$B$20-'Barème'!$C$20,((MAX(0,MIN(C6,'Barème'!$B$4)-'Barème'!$A$4)*'Barème'!$C$4+MAX(0,MIN(C6,'Barème'!$B$5)-'Barème'!$A$5)*'Barème'!$C$5+MAX(0,MIN(C6,'Barème'!$B$6)-'Barème'!$A$6)*'Barème'!$C$6+MAX(0,MIN(C6,'Barème'!$B$7)-'Barème'!$A$7)*'Barème'!$C$7+MAX(0,MIN(C6,'Barème'!$B$8)-'Barème'!$A$8)*'Barème'!$C$8+MAX(0,C6-'Barème'!$A$9)*'Barème'!$C$9)-MIN(MAX(((MAX(0,MIN(C6,'Barème'!$B$4)-'Barème'!$A$4)*'Barème'!$C$4+MAX(0,MIN(C6,'Barème'!$B$5)-'Barème'!$A$5)*'Barème'!$C$5+MAX(0,MIN(C6,'Barème'!$B$6)-'Barème'!$A$6)*'Barème'!$C$6+MAX(0,MIN(C6,'Barème'!$B$7)-'Barème'!$A$7)*'Barème'!$C$7+MAX(0,MIN(C6,'Barème'!$B$8)-'Barème'!$A$8)*'Barème'!$C$8+MAX(0,C6-'Barème'!$A$9)*'Barème'!$C$9))*'Barème'!$B$14,'Barème'!$B$15),'Barème'!$B$16))))),2)) | E6: =ROUND(C6-D6,2)
A7: 35000 | B7: =ROUND(A7*'Barème'!$B$13,2) | C7: =A7-B7 | D7: =IF(C7<='Barème'!$B$17,0,ROUND(MAX(0,IF(AND(FALSE,C7<'Barème'!$B$19),((MAX(0,MIN(C7,'Barème'!$B$4)-'Barème'!$A$4)*'Barème'!$C$4+MAX(0,MIN(C7,'Barème'!$B$5)-'Barème'!$A$5)*'Barème'!$C$5+MAX(0,MIN(C7,'Barème'!$B$6)-'Barème'!$A$6)*'Barème'!$C$6+MAX(0,MIN(C7,'Barème'!$B$7)-'Barème'!$A$7)*'Barème'!$C$7+MAX(0,MIN(C7,'Barème'!$B$8)-'Barème'!$A$8)*'Barème'!$C$8+MAX(0,C7-'Barème'!$A$9)*'Barème'!$C$9)-MIN(MAX(((MAX(0,MIN(C7,'Barème'!$B$4)-'Barème'!$A$4)*'Barème'!$C$4+MAX(0,MIN(C7,'Barème'!$B$5)-'Barème'!$A$5)*'Barème'!$C$5+MAX(0,MIN(C7,'Barème'!$B$6)-'Barème'!$A$6)*'Barème'!$C$6+MAX(0,MIN(C7,'Barème'!$B$7)-'Barème'!$A$7)*'Barème'!$C$7+MAX(0,MIN(C7,'Barème'!$B$8)-'Barème'!$A$8)*'Barème'!$C$8+MAX(0,C7-'Barème'!$A$9)*'Barème'!$C$9))*'Barème'!$B$14,'Barème'!$B$15),'Barème'!$B$16))*'Barème'!$B$21-'Barème'!$C$21,IF(C7<'Barème'!$B$18,((MAX(0,MIN(C7,'Barème'!$B$4)-'Barème'!$A$4)*'Barème'!$C$4+MAX(0,MIN(C7,'Barème'!$B$5)-'Barème'!$A$5)*'Barème'!$C$5+MAX(0,MIN(C7,'Barème'!$B$6)-'Barème'!$A$6)*'Barème'!$C$6+MAX(0,MIN(C7,'Barème'!$B$7)-'Barème'!$A$7)*'Barème'!$C$7+MAX(0,MIN(C7,'Barème'!$B$8)-'Barème'!$A$8)*'Barème'!$C$8+MAX(0,C7-'Barème'!$A$9)*'Barème'!$C$9)-MIN(MAX(((MAX(0,MIN(C7,'Barème'!$B$4)-'Barème'!$A$4)*'Barème'!$C$4+MAX(0,MIN(C7,'Barème'!$B$5)-'Barème'!$A$5)*'Barème'!$C$5+MAX(0,MIN(C7,'Barème'!$B$6)-'Barème'!$A$6)*'Barème'!$C$6+MAX(0,MIN(C7,'Barème'!$B$7)-'Barème'!$A$7)*'Barème'!$C$7+MAX(0,MIN(C7,'Barème'!$B$8)-'Barème'!$A$8)*'Barème'!$C$8+MAX(0,C7-'Barème'!$A$9)*'Barème'!$C$9))*'Barème'!$B$14,'Barème'!$B$15),'Barème'!$B$16))*'Barème'!$B$20-'Barème'!$C$20,((MAX(0,MIN(C7,'Barème'!$B$4)-'Barème'!$A$4)*'Barème'!$C$4+MAX(0,MIN(C7,'Barème'!$B$5)-'Barème'!$A$5)*'Barème'!$C$5+MAX(0,MIN(C7,'Barème'!$B$6)-'Barème'!$A$6)*'Barème'!$C$6+MAX(0,MIN(C7,'Barème'!$B$7)-'Barème'!$A$7)*'Barème'!$C$7+MAX(0,MIN(C7,'Barème'!$B$8)-'Barème'!$A$8)*'Barème'!$C$8+MAX(0,C7-'Barème'!$A$9)*'Barème'!$C$9)-MIN(MAX(((MAX(0,MIN(C7,'Barème'!$B$4)-'Barème'!$A$4)*'Barème'!$C$4+MAX(0,MIN(C7,'Barème'!$B$5)-'Barème'!$A$5)*'Barème'!$C$5+MAX(0,MIN(C7,'Barème'!$B$6)-'Barème'!$A$6)*'Barème'!$C$6+MAX(0,MIN(C7,'Barème'!$B$7)-'Barème'!$A$7)*'Barème'!$C$7+MAX(0,MIN(C7,'Barème'!$B$8)-'Barème'!$A$8)*'Barème'!$C$8+MAX(0,C7-'Barème'!$A$9)*'Barème'!$C$9))*'Barème'!$B$14,'Barème'!$B$15),'Barème'!$B$16))))),2)) | E7: =ROUND(C7-D7,2)
A8: 40000 | B8: =ROUND(A8*'Barème'!$B$13,2) | C8: =A8-B8 | D8: =IF(C8<='Barème'!$B$17,0,ROUND(MAX(0,IF(AND(FALSE,C8<'Barème'!$B$19),((MAX(0,MIN(C8,'Barème'!$B$4)-'Barème'!$A$4)*'Barème'!$C$4+MAX(0,MIN(C8,'Barème'!$B$5)-'Barème'!$A$5)*'Barème'!$C$5+MAX(0,MIN(C8,'Barème'!$B$6)-'Barème'!$A$6)*'Barème'!$C$6+MAX(0,MIN(C8,'Barème'!$B$7)-'Barème'!$A$7)*'Barème'!$C$7+MAX(0,MIN(C8,'Barème'!$B$8)-'Barème'!$A$8)*'Barème'!$C$8+MAX(0,C8-'Barème'!$A$9)*'Barème'!$C$9)-MIN(MAX(((MAX(0,MIN(C8,'Barème'!$B$4)-'Barème'!$A$4)*'Barème'!$C$4+MAX(0,MIN(C8,'Barème'!$B$5)-'Barème'!$A$5)*'Barème'!$C$5+MAX(0,MIN(C8,'Barème'!$B$6)-'Barème'!$A$6)*'Barème'!$C$6+MAX(0,MIN(C8,'Barème'!$B$7)-'Barème'!$A$7)*'Barème'!$C$7+MAX(0,MIN(C8,'Barème'!$B$8)-'Barème'!$A$8)*'Barème'!$C$8+MAX(0,C8-'Barème'!$A$9)*'Barème'!$C$9))*'Barème'!$B$14,'Barème'!$B$15),'Barème'!$B$16))*'Barème'!$B$21-'Barème'!$C$21,IF(C8<'Barème'!$B$18,((MAX(0,MIN(C8,'Barème'!$B$4)-'Barème'!$A$4)*'Barème'!$C$4+MAX(0,MIN(C8,'Barème'!$B$5)-'Barème'!$A$5)*'Barème'!$C$5+MAX(0,MIN(C8,'Barème'!$B$6)-'Barème'!$A$6)*'Barème'!$C$6+MAX(0,MIN(C8,'Barème'!$B$7)-'Barème'!$A$7)*'Barème'!$C$7+MAX(0,MIN(C8,'Barème'!$B$8)-'Barème'!$A$8)*'Barème'!$C$8+MAX(0,C8-'Barème'!$A$9)*'Barème'!$C$9)-MIN(MAX(((MAX(0,MIN(C8,'Barème'!$B$4)-'Barème'!$A$4)*'Barème'!$C$4+MAX(0,MIN(C8,'Barème'!$B$5)-'Barème'!$A$5)*'Barème'!$C$5+MAX(0,MIN(C8,'Barème'!$B$6)-'Barème'!$A$6)*'Barème'!$C$6+MAX(0,MIN(C8,'Barème'!$B$7)-'Barème'!$A$7)*'Barème'!$C$7+MAX(0,MIN(C8,'Barème'!$B$8)-'Barème'!$A$8)*'Barème'!$C$8+MAX(0,C8-'Barème'!$A$9)*'Barème'!$C$9))*'Barème'!$B$14,'Barème'!$B$15),'Barème'!$B$16))*'Barème'!$B$20-'Barème'!$C$20,((MAX(0,MIN(C8,'Barème'!$B$4)-'Barème'!$A$4)*'Barème'!$C$4+MAX(0,MIN(C8,'Barème'!$B$5)-'Barème'!$A$5)*'Barème'!$C$5+MAX(0,MIN(C8,'Barème'!$B$6)-'Barème'!$A$6)*'Barème'!$C$6+MAX(0,MIN(C8,'Barème'!$B$7)-'Barème'!$A$7)*'Barème'!$C$7+MAX(0,MIN(C8,'Barème'!$B$8)-'Barème'!$A$8)*'Barème'!$C$8+MAX(0,C8-'Barème'!$A$9)*'Barème'!$C$9)-MIN(MAX(((MAX(0,MIN(C8,'Barème'!$B$4)-'Barème'!$A$4)*'Barème'!$C$4+MAX(0,MIN(C8,'Barème'!$B$5)-'Barème'!$A$5)*'Barème'!$C$5+MAX(0,MIN(C8,'Barème'!$B$6)-'Barème'!$A$6)*'Barème'!$C$6+MAX(0,MIN(C8,'Barème'!$B$7)-'Barème'!$A$7)*'Barème'!$C$7+MAX(0,MIN(C8,'Barème'!$B$8)-'Barème'!$A$8)*'Barème'!$C$8+MAX(0,C8-'Barème'!$A$9)*'Barème'!$C$9))*'Barème'!$B$14,'Barème'!$B$15),'Barème'!$B$16))))),2)) | E8: =ROUND(C8-D8,2)
A9: 45000 | B9: =ROUND(A9*'Barème'!$B$13,2) | C9: =A9-B9 | D9: =IF(C9<='Barème'!$B$17,0,ROUND(MAX(0,IF(AND(FALSE,C9<'Barème'!$B$19),((MAX(0,MIN(C9,'Barème'!$B$4)-'Barème'!$A$4)*'Barème'!$C$4+MAX(0,MIN(C9,'Barème'!$B$5)-'Barème'!$A$5)*'Barème'!$C$5+MAX(0,MIN(C9,'Barème'!$B$6)-'Barème'!$A$6)*'Barème'!$C$6+MAX(0,MIN(C9,'Barème'!$B$7)-'Barème'!$A$7)*'Barème'!$C$7+MAX(0,MIN(C9,'Barème'!$B$8)-'Barème'!$A$8)*'Barème'!$C$8+MAX(0,C9-'Barème'!$A$9)*'Barème'!$C$9)-MIN(MAX(((MAX(0,MIN(C9,'Barème'!$B$4)-'Barème'!$A$4)*'Barème'!$C$4+MAX(0,MIN(C9,'Barème'!$B$5)-'Barème'!$A$5)*'Barème'!$C$5+MAX(0,MIN(C9,'Barème'!$B$6)-'Barème'!$A$6)*'Barème'!$C$6+MAX(0,MIN(C9,'Barème'!$B$7)-'Barème'!$A$7)*'Barème'!$C$7+MAX(0,MIN(C9,'Barème'!$B$8)-'Barème'!$A$8)*'Barème'!$C$8+MAX(0,C9-'Barème'!$A$9)*'Barème'!$C$9))*'Barème'!$B$14,'Barème'!$B$15),'Barème'!$B$16))*'Barème'!$B$21-'Barème'!$C$21,IF(C9<'Barème'!$B$18,((MAX(0,MIN(C9,'Barème'!$B$4)-'Barème'!$A$4)*'Barème'!$C$4+MAX(0,MIN(C9,'Barème'!$B$5)-'Barème'!$A$5)*'Barème'!$C$5+MAX(0,MIN(C9,'Barème'!$B$6)-'Barème'!$A$6)*'Barème'!$C$6+MAX(0,MIN(C9,'Barème'!$B$7)-'Barème'!$A$7)*'Barème'!$C$7+MAX(0,MIN(C9,'Barème'!$B$8)-'Barème'!$A$8)*'Barème'!$C$8+MAX(0,C9-'Barème'!$A$9)*'Barème'!$C$9)-MIN(MAX(((MAX(0,MIN(C9,'Barème'!$B$4)-'Barème'!$A$4)*'Barème'!$C$4+MAX(0,MIN(C9,'Barème'!$B$5)-'Barème'!$A$5)*'Barème'!$C$5+MAX(0,MIN(C9,'Barème'!$B$6)-'Barème'!$A$6)*'Barème'!$C$6+MAX(0,MIN(C9,'Barème'!$B$7)-'Barème'!$A$7)*'Barème'!$C$7+MAX(0,MIN(C9,'Barème'!$B$8)-'Barème'!$A$8)*'Barème'!$C$8+MAX(0,C9-'Barème'!$A$9)*'Barème'!$C$9))*'Barème'!$B$14,'Barème'!$B$15),'Barème'!$B$16))*'Barème'!$B$20-'Barème'!$C$20,((MAX(0,MIN(C9,'Barème'!$B$4)-'Barème'!$A$4)*'Barème'!$C$4+MAX(0,MIN(C9,'Barème'!$B$5)-'Barème'!$A$5)*'Barème'!$C$5+MAX(0,MIN(C9,'Barème'!$B$6)-'Barème'!$A$6)*'Barème'!$C$6+MAX(0,MIN(C9,'Barème'!$B$7)-'Barème'!$A$7)*'Barème'!$C$7+MAX(0,MIN(C9,'Barème'!$B$8)-'Barème'!$A$8)*'Barème'!$C$8+MAX(0,C9-'Barème'!$A$9)*'Barème'!$C$9)-MIN(MAX(((MAX(0,MIN(C9,'Barème'!$B$4)-'Barème'!$A$4)*'Barème'!$C$4+MAX(0,MIN(C9,'Barème'!$B$5)-'Barème'!$A$5)*'Barème'!$C$5+MAX(0,MIN(C9,'Barème'!$B$6)-'Barème'!$A$6)*'Barème'!$C$6+MAX(0,MIN(C9,'Barème'!$B$7)-'Barème'!$A$7)*'Barème'!$C$7+MAX(0,MIN(C9,'Barème'!$B$8)-'Barème'!$A$8)*'Barème'!$C$8+MAX(0,C9-'Barème'!$A$9)*'Barème'!$C$9))*'Barème'!$B$14,'Barème'!$B$15),'Barème'!$B$16))))),2)) | E9: =ROUND(C9-D9,2)
A10: 50000 | B10: =ROUND(A10*'Barème'!$B$13,2) | C10: =A10-B10 | D10: =IF(C10<='Barème'!$B$17,0,ROUND(MAX(0,IF(AND(FALSE,C10<'Barème'!$B$19),((MAX(0,MIN(C10,'Barème'!$B$4)-'Barème'!$A$4)*'Barème'!$C$4+MAX(0,MIN(C10,'Barème'!$B$5)-'Barème'!$A$5)*'Barème'!$C$5+MAX(0,MIN(C10,'Barème'!$B$6)-'Barème'!$A$6)*'Barème'!$C$6+MAX(0,MIN(C10,'Barème'!$B$7)-'Barème'!$A$7)*'Barème'!$C$7+MAX(0,MIN(C10,'Barème'!$B$8)-'Barème'!$A$8)*'Barème'!$C$8+MAX(0,C10-'Barème'!$A$9)*'Barème'!$C$9)-MIN(MAX(((MAX(0,MIN(C10,'Barème'!$B$4)-'Barème'!$A$4)*'Barème'!$C$4+MAX(0,MIN(C10,'Barème'!$B$5)-'Barème'!$A$5)*'Barème'!$C$5+MAX(0,MIN(C10,'Barème'!$B$6)-'Barème'!$A$6)*'Barème'!$C$6+MAX(0,MIN(C10,'Barème'!$B$7)-'Barème'!$A$7)*'Barème'!$C$7+MAX(0,MIN(C10,'Barème'!$B$8)-'Barème'!$A$8)*'Barème'!$C$8+MAX(0,C10-'Barème'!$A$9)*'Barème'!$C$9))*'Barème'!$B$14,'Barème'!$B$15),'Barème'!$B$16))*'Barème'!$B$21-'Barème'!$C$21,IF(C10<'Barème'!$B$18,((MAX(0,MIN(C10,'Barème'!$B$4)-'Barème'!$A$4)*'Barème'!$C$4+MAX(0,MIN(C10,'Barème'!$B$5)-'Barème'!$A$5)*'Barème'!$C$5+MAX(0,MIN(C10,'Barème'!$B$6)-'Barème'!$A$6)*'Barème'!$C$6+MAX(0,MIN(C10,'Barème'!$B$7)-'Barème'!$A$7)*'Barème'!$C$7+MAX(0,MIN(C10,'Barème'!$B$8)-'Barème'!$A$8)*'Barème'!$C$8+MAX(0,C10-'Barème'!$A$9)*'Barème'!$C$9)-MIN(MAX(((MAX(0,MIN(C10,'Barème'!$B$4)-'Barème'!$A$4)*'Barème'!$C$4+MAX(0,MIN(C10,'Barème'!$B$5)-'Barème'!$A$5)*'Barème'!$C$5+MAX(0,MIN(C10,'Barème'!$B$6)-'Barème'!$A$6)*'Barème'!$C$6+MAX(0,MIN(C10,'Barème'!$B$7)-'Barème'!$A$7)*'Barème'!$C$7+MAX(0,MIN(C10,'Barème'!$B$8)-'Barème'!$A$8)*'Barème'!$C$8+MAX(0,C10-'Barème'!$A$9)*'Barème'!$C$9))*'Barème'!$B$14,'Barème'!$B$15),'Barème'!$B$16))*'Barème'!$B$20-'Barème'!$C$20,((MAX(0,MIN(C10,'Barème'!$B$4)-'Barème'!$A$4)*'Barème'!$C$4+MAX(0,MIN(C10,'Barème'!$B$5)-'Barème'!$A$5)*'Barème'!$C$5+MAX(0,MIN(C10,'Barème'!$B$6)-'Barème'!$A$6)*'Barème'!$C$6+MAX(0,MIN(C10,'Barème'!$B$7)-'Barème'!$A$7)*'Barème'!$C$7+MAX(0,MIN(C10,'Barème'!$B$8)-'Barème'!$A$8)*'Barème'!$C$8+MAX(0,C10-'Barème'!$A$9)*'Barème'!$C$9)-MIN(MAX(((MAX(0,MIN(C10,'Barème'!$B$4)-'Barème'!$A$4)*'Barème'!$C$4+MAX(0,MIN(C10,'Barème'!$B$5)-'Barème'!$A$5)*'Barème'!$C$5+MAX(0,MIN(C10,'Barème'!$B$6)-'Barème'!$A$6)*'Barème'!$C$6+MAX(0,MIN(C10,'Barème'!$B$7)-'Barème'!$A$7)*'Barème'!$C$7+MAX(0,MIN(C10,'Barème'!$B$8)-'Barème'!$A$8)*'Barème'!$C$8+MAX(0,C10-'Barème'!$A$9)*'Barème'!$C$9))*'Barème'!$B$14,'Barème'!$B$15),'Barème'!$B$16))))),2)) | E10: =ROUND(C10-D10,2)
A11: 55000 | B11: =ROUND(A11*'Barème'!$B$13,2) | C11: =A11-B11 | D11: =IF(C11<='Barème'!$B$17,0,ROUND(MAX(0,IF(AND(FALSE,C11<'Barème'!$B$19),((MAX(0,MIN(C11,'Barème'!$B$4)-'Barème'!$A$4)*'Barème'!$C$4+MAX(0,MIN(C11,'Barème'!$B$5)-'Barème'!$A$5)*'Barème'!$C$5+MAX(0,MIN(C11,'Barème'!$B$6)-'Barème'!$A$6)*'Barème'!$C$6+MAX(0,MIN(C11,'Barème'!$B$7)-'Barème'!$A$7)*'Barème'!$C$7+MAX(0,MIN(C11,'Barème'!$B$8)-'Barème'!$A$8)*'Barème'!$C$8+MAX(0,C11-'Barème'!$A$9)*'Barème'!$C$9)-MIN(MAX(((MAX(0,MIN(C11,'Barème'!$B$4)-'Barème'!$A$4)*'Barème'!$C$4+MAX(0,MIN(C11,'Barème'!$B$5)-'Barème'!$A$5)*'Barème'!$C$5+MAX(0,MIN(C11,'Barème'!$B$6)-'Barème'!$A$6)*'Barème'!$C$6+MAX(0,MIN(C11,'Barème'!$B$7)-'Barème'!$A$7)*'Barème'!$C$7+MAX(0,MIN(C11,'Barème'!$B$8)-'Barème'!$A$8)*'Barème'!$C$8+MAX(0,C11-'Barème'!$A$9)*'Barème'!$C$9))*'Barème'!$B$14,'Barème'!$B$15),'Barème'!$B$16))*'Barème'!$B$21-'Barème'!$C$21,IF(C11<'Barème'!$B$18,((MAX(0,MIN(C11,'Barème'!$B$4)-'Barème'!$A$4)*'Barème'!$C$4+MAX(0,MIN(C11,'Barème'!$B$5)-'Barème'!$A$5)*'Barème'!$C$5+MAX(0,MIN(C11,'Barème'!$B$6)-'Barème'!$A$6)*'Barème'!$C$6+MAX(0,MIN(C11,'Barème'!$B$7)-'Barème'!$A$7)*'Barème'!$C$7+MAX(0,MIN(C11,'Barème'!$B$8)-'Barème'!$A$8)*'Barème'!$C$8+MAX(0,C11-'Barème'!$A$9)*'Barème'!$C$9)-MIN(MAX(((MAX(0,MIN(C11,'Barème'!$B$4)-'Barème'!$A$4)*'Barème'!$C$4+MAX(0,MIN(C11,'Barème'!$B$5)-'Barème'!$A$5)*'Barème'!$C$5+MAX(0,MIN(C11,'Barème'!$B$6)-'Barème'!$A$6)*'Barème'!$C$6+MAX(0,MIN(C11,'Barème'!$B$7)-'Barème'!$A$7)*'Barème'!$C$7+MAX(0,MIN(C11,'Barème'!$B$8)-'Barème'!$A$8)*'Barème'!$C$8+MAX(0,C11-'Barème'!$A$9)*'Barème'!$C$9))*'Barème'!$B$14,'Barème'!$B$15),'Barème'!$B$16))*'Barème'!$B$20-'Barème'!$C$20,((MAX(0,MIN(C11,'Barème'!$B$4)-'Barème'!$A$4)*'Barème'!$C$4+MAX(0,MIN(C11,'Barème'!$B$5)-'Barème'!$A$5)*'Barème'!$C$5+MAX(0,MIN(C11,'Barème'!$B$6)-'Barème'!$A$6)*'Barème'!$C$6+MAX(0,MIN(C11,'Barème'!$B$7)-'Barème'!$A$7)*'Barème'!$C$7+MAX(0,MIN(C11,'Barème'!$B$8)-'Barème'!$A$8)*'Barème'!$C$8+MAX(0,C11-'Barème'!$A$9)*'Barème'!$C$9)-MIN(MAX(((MAX(0,MIN(C11,'Barème'!$B$4)-'Barème'!$A$4)*'Barème'!$C$4+MAX(0,MIN(C11,'Barème'!$B$5)-'Barème'!$A$5)*'Barème'!$C$5+MAX(0,MIN(C11,'Barème'!$B$6)-'Barème'!$A$6)*'Barème'!$C$6+MAX(0,MIN(C11,'Barème'!$B$7)-'Barème'!$A$7)*'Barème'!$C$7+MAX(0,MIN(C11,'Barème'!$B$8)-'Barème'!$A$8)*'Barème'!$C$8+MAX(0,C11-'Barème'!$A$9)*'Barème'!$C$9))*'Barème'!$B$14,'Barème'!$B$15),'Barème'!$B$16))))),2)) | E11: =ROUND(C11-D11,2)
A12: 60000 | B12: =ROUND(A12*'Barème'!$B$13,2) | C12: =A12-B12 | D12: =IF(C12<='Barème'!$B$17,0,ROUND(MAX(0,IF(AND(FALSE,C12<'Barème'!$B$19),((MAX(0,MIN(C12,'Barème'!$B$4)-'Barème'!$A$4)*'Barème'!$C$4+MAX(0,MIN(C12,'Barème'!$B$5)-'Barème'!$A$5)*'Barème'!$C$5+MAX(0,MIN(C12,'Barème'!$B$6)-'Barème'!$A$6)*'Barème'!$C$6+MAX(0,MIN(C12,'Barème'!$B$7)-'Barème'!$A$7)*'Barème'!$C$7+MAX(0,MIN(C12,'Barème'!$B$8)-'Barème'!$A$8)*'Barème'!$C$8+MAX(0,C12-'Barème'!$A$9)*'Barème'!$C$9)-MIN(MAX(((MAX(0,MIN(C12,'Barème'!$B$4)-'Barème'!$A$4)*'Barème'!$C$4+MAX(0,MIN(C12,'Barème'!$B$5)-'Barème'!$A$5)*'Barème'!$C$5+MAX(0,MIN(C12,'Barème'!$B$6)-'Barème'!$A$6)*'Barème'!$C$6+MAX(0,MIN(C12,'Barème'!$B$7)-'Barème'!$A$7)*'Barème'!$C$7+MAX(0,MIN(C12,'Barème'!$B$8)-'Barème'!$A$8)*'Barème'!$C$8+MAX(0,C12-'Barème'!$A$9)*'Barème'!$C$9))*'Barème'!$B$14,'Barème'!$B$15),'Barème'!$B$16))*'Barème'!$B$21-'Barème'!$C$21,IF(C12<'Barème'!$B$18,((MAX(0,MIN(C12,'Barème'!$B$4)-'Barème'!$A$4)*'Barème'!$C$4+MAX(0,MIN(C12,'Barème'!$B$5)-'Barème'!$A$5)*'Barème'!$C$5+MAX(0,MIN(C12,'Barème'!$B$6)-'Barème'!$A$6)*'Barème'!$C$6+MAX(0,MIN(C12,'Barème'!$B$7)-'Barème'!$A$7)*'Barème'!$C$7+MAX(0,MIN(C12,'Barème'!$B$8)-'Barème'!$A$8)*'Barème'!$C$8+MAX(0,C12-'Barème'!$A$9)*'Barème'!$C$9)-MIN(MAX(((MAX(0,MIN(C12,'Barème'!$B$4)-'Barème'!$A$4)*'Barème'!$C$4+MAX(0,MIN(C12,'Barème'!$B$5)-'Barème'!$A$5)*'Barème'!$C$5+MAX(0,MIN(C12,'Barème'!$B$6)-'Barème'!$A$6)*'Barème'!$C$6+MAX(0,MIN(C12,'Barème'!$B$7)-'Barème'!$A$7)*'Barème'!$C$7+MAX(0,MIN(C12,'Barème'!$B$8)-'Barème'!$A$8)*'Barème'!$C$8+MAX(0,C12-'Barème'!$A$9)*'Barème'!$C$9))*'Barème'!$B$14,'Barème'!$B$15),'Barème'!$B$16))*'Barème'!$B$20-'Barème'!$C$20,((MAX(0,MIN(C12,'Barème'!$B$4)-'Barème'!$A$4)*'Barème'!$C$4+MAX(0,MIN(C12,'Barème'!$B$5)-'Barème'!$A$5)*'Barème'!$C$5+MAX(0,MIN(C12,'Barème'!$B$6)-'Barème'!$A$6)*'Barème'!$C$6+MAX(0,MIN(C12,'Barème'!$B$7)-'Barème'!$A$7)*'Barème'!$C$7+MAX(0,MIN(C12,'Barème'!$B$8)-'Barème'!$A$8)*'Barème'!$C$8+MAX(0,C12-'Barème'!$A$9)*'Barème'!$C$9)-MIN(MAX(((MAX(0,MIN(C12,'Barème'!$B$4)-'Barème'!$A$4)*'Barème'!$C$4+MAX(0,MIN(C12,'Barème'!$B$5)-'Barème'!$A$5)*'Barème'!$C$5+MAX(0,MIN(C12,'Barème'!$B$6)-'Barème'!$A$6)*'Barème'!$C$6+MAX(0,MIN(C12,'Barème'!$B$7)-'Barème'!$A$7)*'Barème'!$C$7+MAX(0,MIN(C12,'Barème'!$B$8)-'Barème'!$A$8)*'Barème'!$C$8+MAX(0,C12-'Barème'!$A$9)*'Barème'!$C$9))*'Barème'!$B$14,'Barème'!$B$15),'Barème'!$B$16))))),2)) | E12: =ROUND(C12-D12,2)
A13: 65000 | B13: =ROUND(A13*'Barème'!$B$13,2) | C13: =A13-B13 | D13: =IF(C13<='Barème'!$B$17,0,ROUND(MAX(0,IF(AND(FALSE,C13<'Barème'!$B$19),((MAX(0,MIN(C13,'Barème'!$B$4)-'Barème'!$A$4)*'Barème'!$C$4+MAX(0,MIN(C13,'Barème'!$B$5)-'Barème'!$A$5)*'Barème'!$C$5+MAX(0,MIN(C13,'Barème'!$B$6)-'Barème'!$A$6)*'Barème'!$C$6+MAX(0,MIN(C13,'Barème'!$B$7)-'Barème'!$A$7)*'Barème'!$C$7+MAX(0,MIN(C13,'Barème'!$B$8)-'Barème'!$A$8)*'Barème'!$C$8+MAX(0,C13-'Barème'!$A$9)*'Barème'!$C$9)-MIN(MAX(((MAX(0,MIN(C13,'Barème'!$B$4)-'Barème'!$A$4)*'Barème'!$C$4+MAX(0,MIN(C13,'Barème'!$B$5)-'Barème'!$A$5)*'Barème'!$C$5+MAX(0,MIN(C13,'Barème'!$B$6)-'Barème'!$A$6)*'Barème'!$C$6+MAX(0,MIN(C13,'Barème'!$B$7)-'Barème'!$A$7)*'Barème'!$C$7+MAX(0,MIN(C13,'Barème'!$B$8)-'Barème'!$A$8)*'Barème'!$C$8+MAX(0,C13-'Barème'!$A$9)*'Barème'!$C$9))*'Barème'!$B$14,'Barème'!$B$15),'Barème'!$B$16))*'Barème'!$B$21-'Barème'!$C$21,IF(C13<'Barème'!$B$18,((MAX(0,MIN(C13,'Barème'!$B$4)-'Barème'!$A$4)*'Barème'!$C$4+MAX(0,MIN(C13,'Barème'!$B$5)-'Barème'!$A$5)*'Barème'!$C$5+MAX(0,MIN(C13,'Barème'!$B$6)-'Barème'!$A$6)*'Barème'!$C$6+MAX(0,MIN(C13,'Barème'!$B$7)-'Barème'!$A$7)*'Barème'!$C$7+MAX(0,MIN(C13,'Barème'!$B$8)-'Barème'!$A$8)*'Barème'!$C$8+MAX(0,C13-'Barème'!$A$9)*'Barème'!$C$9)-MIN(MAX(((MAX(0,MIN(C13,'Barème'!$B$4)-'Barème'!$A$4)*'Barème'!$C$4+MAX(0,MIN(C13,'Barème'!$B$5)-'Barème'!$A$5)*'Barème'!$C$5+MAX(0,MIN(C13,'Barème'!$B$6)-'Barème'!$A$6)*'Barème'!$C$6+MAX(0,MIN(C13,'Barème'!$B$7)-'Barème'!$A$7)*'Barème'!$C$7+MAX(0,MIN(C13,'Barème'!$B$8)-'Barème'!$A$8)*'Barème'!$C$8+MAX(0,C13-'Barème'!$A$9)*'Barème'!$C$9))*'Barème'!$B$14,'Barème'!$B$15),'Barème'!$B$16))*'Barème'!$B$20-'Barème'!$C$20,((MAX(0,MIN(C13,'Barème'!$B$4)-'Barème'!$A$4)*'Barème'!$C$4+MAX(0,MIN(C13,'Barème'!$B$5)-'Barème'!$A$5)*'Barème'!$C$5+MAX(0,MIN(C13,'Barème'!$B$6)-'Barème'!$A$6)*'Barème'!$C$6+MAX(0,MIN(C13,'Barème'!$B$7)-'Barème'!$A$7)*'Barème'!$C$7+MAX(0,MIN(C13,'Barème'!$B$8)-'Barème'!$A$8)*'Barème'!$C$8+MAX(0,C13-'Barème'!$A$9)*'Barème'!$C$9)-MIN(MAX(((MAX(0,MIN(C13,'Barème'!$B$4)-'Barème'!$A$4)*'Barème'!$C$4+MAX(0,MIN(C13,'Barème'!$B$5)-'Barème'!$A$5)*'Barème'!$C$5+MAX(0,MIN(C13,'Barème'!$B$6)-'Barème'!$A$6)*'Barème'!$C$6+MAX(0,MIN(C13,'Barème'!$B$7)-'Barème'!$A$7)*'Barème'!$C$7+MAX(0,MIN(C13,'Barème'!$B$8)-'Barème'!$A$8)*'Barème'!$C$8+MAX(0,C13-'Barème'!$A$9)*'Barème'!$C$9))*'Barème'!$B$14,'Barème'!$B$15),'Barème'!$B$16))))),2)) | E13: =ROUND(C13-D13,2)
A14: 70000 | B14: =ROUND(A14*'Barème'!$B$13,2) | C14: =A14-B14 | D14: =IF(C14<='Barème'!$B$17,0,ROUND(MAX(0,IF(AND(FALSE,C14<'Barème'!$B$19),((MAX(0,MIN(C14,'Barème'!$B$4)-'Barème'!$A$4)*'Barème'!$C$4+MAX(0,MIN(C14,'Barème'!$B$5)-'Barème'!$A$5)*'Barème'!$C$5+MAX(0,MIN(C14,'Barème'!$B$6)-'Barème'!$A$6)*'Barème'!$C$6+MAX(0,MIN(C14,'Barème'!$B$7)-'Barème'!$A$7)*'Barème'!$C$7+MAX(0,MIN(C14,'Barème'!$B$8)-'Barème'!$A$8)*'Barème'!$C$8+MAX(0,C14-'Barème'!$A$9)*'Barème'!$C$9)-MIN(MAX(((MAX(0,MIN(C14,'Barème'!$B$4)-'Barème'!$A$4)*'Barème'!$C$4+MAX(0,MIN(C14,'Barème'!$B$5)-'Barème'!$A$5)*'Barème'!$C$5+MAX(0,MIN(C14,'Barème'!$B$6)-'Barème'!$A$6)*'Barème'!$C$6+MAX(0,MIN(C14,'Barème'!$B$7)-'Barème'!$A$7)*'Barème'!$C$7+MAX(0,MIN(C14,'Barème'!$B$8)-'Barème'!$A$8)*'Barème'!$C$8+MAX(0,C14-'Barème'!$A$9)*'Barème'!$C$9))*'Barème'!$B$14,'Barème'!$B$15),'Barème'!$B$16))*'Barème'!$B$21-'Barème'!$C$21,IF(C14<'Barème'!$B$18,((MAX(0,MIN(C14,'Barème'!$B$4)-'Barème'!$A$4)*'Barème'!$C$4+MAX(0,MIN(C14,'Barème'!$B$5)-'Barème'!$A$5)*'Barème'!$C$5+MAX(0,MIN(C14,'Barème'!$B$6)-'Barème'!$A$6)*'Barème'!$C$6+MAX(0,MIN(C14,'Barème'!$B$7)-'Barème'!$A$7)*'Barème'!$C$7+MAX(0,MIN(C14,'Barème'!$B$8)-'Barème'!$A$8)*'Barème'!$C$8+MAX(0,C14-'Barème'!$A$9)*'Barème'!$C$9)-MIN(MAX(((MAX(0,MIN(C14,'Barème'!$B$4)-'Barème'!$A$4)*'Barème'!$C$4+MAX(0,MIN(C14,'Barème'!$B$5)-'Barème'!$A$5)*'Barème'!$C$5+MAX(0,MIN(C14,'Barème'!$B$6)-'Barème'!$A$6)*'Barème'!$C$6+MAX(0,MIN(C14,'Barème'!$B$7)-'Barème'!$A$7)*'Barème'!$C$7+MAX(0,MIN(C14,'Barème'!$B$8)-'Barème'!$A$8)*'Barème'!$C$8+MAX(0,C14-'Barème'!$A$9)*'Barème'!$C$9))*'Barème'!$B$14,'Barème'!$B$15),'Barème'!$B$16))*'Barème'!$B$20-'Barème'!$C$20,((MAX(0,MIN(C14,'Barème'!$B$4)-'Barème'!$A$4)*'Barème'!$C$4+MAX(0,MIN(C14,'Barème'!$B$5)-'Barème'!$A$5)*'Barème'!$C$5+MAX(0,MIN(C14,'Barème'!$B$6)-'Barème'!$A$6)*'Barème'!$C$6+MAX(0,MIN(C14,'Barème'!$B$7)-'Barème'!$A$7)*'Barème'!$C$7+MAX(0,MIN(C14,'Barème'!$B$8)-'Barème'!$A$8)*'Barème'!$C$8+MAX(0,C14-'Barème'!$A$9)*'Barème'!$C$9)-MIN(MAX(((MAX(0,MIN(C14,'Barème'!$B$4)-'Barème'!$A$4)*'Barème'!$C$4+MAX(0,MIN(C14,'Barème'!$B$5)-'Barème'!$A$5)*'Barème'!$C$5+MAX(0,MIN(C14,'Barème'!$B$6)-'Barème'!$A$6)*'Barème'!$C$6+MAX(0,MIN(C14,'Barème'!$B$7)-'Barème'!$A$7)*'Barème'!$C$7+MAX(0,MIN(C14,'Barème'!$B$8)-'Barème'!$A$8)*'Barème'!$C$8+MAX(0,C14-'Barème'!$A$9)*'Barème'!$C$9))*'Barème'!$B$14,'Barème'!$B$15),'Barème'!$B$16))))),2)) | E14: =ROUND(C14-D14,2)
A15: 75000 | B15: =ROUND(A15*'Barème'!$B$13,2) | C15: =A15-B15 | D15: =IF(C15<='Barème'!$B$17,0,ROUND(MAX(0,IF(AND(FALSE,C15<'Barème'!$B$19),((MAX(0,MIN(C15,'Barème'!$B$4)-'Barème'!$A$4)*'Barème'!$C$4+MAX(0,MIN(C15,'Barème'!$B$5)-'Barème'!$A$5)*'Barème'!$C$5+MAX(0,MIN(C15,'Barème'!$B$6)-'Barème'!$A$6)*'Barème'!$C$6+MAX(0,MIN(C15,'Barème'!$B$7)-'Barème'!$A$7)*'Barème'!$C$7+MAX(0,MIN(C15,'Barème'!$B$8)-'Barème'!$A$8)*'Barème'!$C$8+MAX(0,C15-'Barème'!$A$9)*'Barème'!$C$9)-MIN(MAX(((MAX(0,MIN(C15,'Barème'!$B$4)-'Barème'!$A$4)*'Barème'!$C$4+MAX(0,MIN(C15,'Barème'!$B$5)-'Barème'!$A$5)*'Barème'!$C$5+MAX(0,MIN(C15,'Barème'!$B$6)-'Barème'!$A$6)*'Barème'!$C$6+MAX(0,MIN(C15,'Barème'!$B$7)-'Barème'!$A$7)*'Barème'!$C$7+MAX(0,MIN(C15,'Barème'!$B$8)-'Barème'!$A$8)*'Barème'!$C$8+MAX(0,C15-'Barème'!$A$9)*'Barème'!$C$9))*'Barème'!$B$14,'Barème'!$B$15),'Barème'!$B$16))*'Barème'!$B$21-'Barème'!$C$21,IF(C15<'Barème'!$B$18,((MAX(0,MIN(C15,'Barème'!$B$4)-'Barème'!$A$4)*'Barème'!$C$4+MAX(0,MIN(C15,'Barème'!$B$5)-'Barème'!$A$5)*'Barème'!$C$5+MAX(0,MIN(C15,'Barème'!$B$6)-'Barème'!$A$6)*'Barème'!$C$6+MAX(0,MIN(C15,'Barème'!$B$7)-'Barème'!$A$7)*'Barème'!$C$7+MAX(0,MIN(C15,'Barème'!$B$8)-'Barème'!$A$8)*'Barème'!$C$8+MAX(0,C15-'Barème'!$A$9)*'Barème'!$C$9)-MIN(MAX(((MAX(0,MIN(C15,'Barème'!$B$4)-'Barème'!$A$4)*'Barème'!$C$4+MAX(0,MIN(C15,'Barème'!$B$5)-'Barème'!$A$5)*'Barème'!$C$5+MAX(0,MIN(C15,'Barème'!$B$6)-'Barème'!$A$6)*'Barème'!$C$6+MAX(0,MIN(C15,'Barème'!$B$7)-'Barème'!$A$7)*'Barème'!$C$7+MAX(0,MIN(C15,'Barème'!$B$8)-'Barème'!$A$8)*'Barème'!$C$8+MAX(0,C15-'Barème'!$A$9)*'Barème'!$C$9))*'Barème'!$B$14,'Barème'!$B$15),'Barème'!$B$16))*'Barème'!$B$20-'Barème'!$C$20,((MAX(0,MIN(C15,'Barème'!$B$4)-'Barème'!$A$4)*'Barème'!$C$4+MAX(0,MIN(C15,'Barème'!$B$5)-'Barème'!$A$5)*'Barème'!$C$5+MAX(0,MIN(C15,'Barème'!$B$6)-'Barème'!$A$6)*'Barème'!$C$6+MAX(0,MIN(C15,'Barème'!$B$7)-'Barème'!$A$7)*'Barème'!$C$7+MAX(0,MIN(C15,'Barème'!$B$8)-'Barème'!$A$8)*'Barème'!$C$8+MAX(0,C15-'Barème'!$A$9)*'Barème'!$C$9)-MIN(MAX(((MAX(0,MIN(C15,'Barème'!$B$4)-'Barème'!$A$4)*'Barème'!$C$4+MAX(0,MIN(C15,'Barème'!$B$5)-'Barème'!$A$5)*'Barème'!$C$5+MAX(0,MIN(C15,'Barème'!$B$6)-'Barème'!$A$6)*'Barème'!$C$6+MAX(0,MIN(C15,'Barème'!$B$7)-'Barème'!$A$7)*'Barème'!$C$7+MAX(0,MIN(C15,'Barème'!$B$8)-'Barème'!$A$8)*'Barème'!$C$8+MAX(0,C15-'Barème'!$A$9)*'Barème'!$C$9))*'Barème'!$B$14,'Barème'!$B$15),'Barème'!$B$16))))),2)) | E15: =ROUND(C15-D15,2)
... A60: 300000 | B60: =ROUND(A60*'Barème'!$B$13,2) | C60: =A60-B60 | D60: =IF(C60<='Barème'!$B$17,0,ROUND(MAX(0,IF(AND(FALSE,C60<'Barème'!$B$19),((MAX(0,MIN(C60,'Barème'!$B$4)-'Barème'!$A$4)*'Barème'!$C$4+MAX(0,MIN(C60,'Barème'!$B$5)-'Barème'!$A$5)*'Barème'!$C$5+MAX(0,MIN(C60,'Barème'!$B$6)-'Barème'!$A$6)*'Barème'!$C$6+MAX(0,MIN(C60,'Barème'!$B$7)-'Barème'!$A$7)*'Barème'!$C$7+MAX(0,MIN(C60,'Barème'!$B$8)-'Barème'!$A$8)*'Barème'!$C$8+MAX(0,C60-'Barème'!$A$9)*'Barème'!$C$9)-MIN(MAX(((MAX(0,MIN(C60,'Barème'!$B$4)-'Barème'!$A$4)*'Barème'!$C$4+MAX(0,MIN(C60,'Barème'!$B$5)-'Barème'!$A$5)*'Barème'!$C$5+MAX(0,MIN(C60,'Barème'!$B$6)-'Barème'!$A$6)*'Barème'!$C$6+MAX(0,MIN(C60,'Barème'!$B$7)-'Barème'!$A$7)*'Barème'!$C$7+MAX(0,MIN(C60,'Barème'!$B$8)-'Barème'!$A$8)*'Barème'!$C$8+MAX(0,C60-'Barème'!$A$9)*'Barème'!$C$9))*'Barème'!$B$14,'Barème'!$B$15),'Barème'!$B$16))*'Barème'!$B$21-'Barème'!$C$21,IF(C60<'Barème'!$B$18,((MAX(0,MIN(C60,'Barème'!$B$4)-'Barème'!$A$4)*'Barème'!$C$4+MAX(0,MIN(C60,'Barème'!$B$5)-'Barème'!$A$5)*'Barème'!$C$5+MAX(0,MIN(C60,'Barème'!$B$6)-'Barème'!$A$6)*'Barème'!$C$6+MAX(0,MIN(C60,'Barème'!$B$7)-'Barème'!$A$7)*'Barème'!$C$7+MAX(0,MIN(C60,'Barème'!$B$8)-'Barème'!$A$8)*'Barème'!$C$8+MAX(0,C60-'Barème'!$A$9)*'Barème'!$C$9)-MIN(MAX(((MAX(0,MIN(C60,'Barème'!$B$4)-'Barème'!$A$4)*'Barème'!$C$4+MAX(0,MIN(C60,'Barème'!$B$5)-'Barème'!$A$5)*'Barème'!$C$5+MAX(0,MIN(C60,'Barème'!$B$6)-'Barème'!$A$6)*'Barème'!$C$6+MAX(0,MIN(C60,'Barème'!$B$7)-'Barème'!$A$7)*'Barème'!$C$7+MAX(0,MIN(C60,'Barème'!$B$8)-'Barème'!$A$8)*'Barème'!$C$8+MAX(0,C60-'Barème'!$A$9)*'Barème'!$C$9))*'Barème'!$B$14,'Barème'!$B$15),'Barème'!$B$16))*'Barème'!$B$20-'Barème'!$C$20,((MAX(0,MIN(C60,'Barème'!$B$4)-'Barème'!$A$4)*'Barème'!$C$4+MAX(0,MIN(C60,'Barème'!$B$5)-'Barème'!$A$5)*'Barème'!$C$5+MAX(0,MIN(C60,'Barème'!$B$6)-'Barème'!$A$6)*'Barème'!$C$6+MAX(0,MIN(C60,'Barème'!$B$7)-'Barème'!$A$7)*'Barème'!$C$7+MAX(0,MIN(C60,'Barème'!$B$8)-'Barème'!$A$8)*'Barème'!$C$8+MAX(0,C60-'Barème'!$A$9)*'Barème'!$C$9)-MIN(MAX(((MAX(0,MIN(C60,'Barème'!$B$4)-'Barème'!$A$4)*'Barème'!$C$4+MAX(0,MIN(C60,'Barème'!$B$5)-'Barème'!$A$5)*'Barème'!$C$5+MAX(0,MIN(C60,'Barème'!$B$6)-'Barème'!$A$6)*'Barème'!$C$6+MAX(0,MIN(C60,'Barème'!$B$7)-'Barème'!$A$7)*'Barème'!$C$7+MAX(0,MIN(C60,'Barème'!$B$8)-'Barème'!$A$8)*'Barème'!$C$8+MAX(0,C60-'Barème'!$A$9)*'Barème'!$C$9))*'Barème'!$B$14,'Barème'!$B$15),'Barème'!$B$16))))),2)) | E60: =ROUND(C60-D60,2)
